BEGIN:VCALENDAR
VERSION:2.0
PRODID:-//ChamberMaster//Event Calendar 2.0//EN
METHOD:PUBLISH
X-PUBLISHED-TTL:P3D
REFRESH-INTERVAL:P3D
CALSCALE:GREGORIAN
BEGIN:VEVENT
DTSTART:20250905T142000Z
DTEND:20250905T160000Z
X-MICROSOFT-CDO-ALLDAYEVENT:FALSE
SUMMARY:Friday AM Networking Meeting - ALSO
DESCRIPTION:Hosted by ALSO (Advocates for Life Skills and Opportunities). These meetings are a great networking opportunity to meet Chamber members and prospective members. Guests and new faces are always welcome!
X-ALT-DESC;FMTTYPE=text/html:<span style="font-size:24px\;">Hosted by <span style="color:#0000CD\;"><strong>ALSO (Advocates for Life Skills and Opportunities)</strong></span>. These meetings are a great networking opportunity to meet Chamber members and prospective members. Guests and new faces are always welcome!</span>
LOCATION:10541 SE Cherry Blossom Drive Portland\, OR 97216
UID:e.1572.14195
SEQUENCE:3
DTSTAMP:20260425T194826Z
URL:https://greshamareachambergzcms.preview.gochambermaster.com/events/details/friday-am-networking-meeting-also-14195
END:VEVENT

END:VCALENDAR
