BEGIN:VCALENDAR
VERSION:2.0
PRODID:-//ChamberMaster//Event Calendar 2.0//EN
METHOD:PUBLISH
X-PUBLISHED-TTL:P3D
REFRESH-INTERVAL:P3D
CALSCALE:GREGORIAN
BEGIN:VEVENT
DTSTART:20250815T142000Z
DTEND:20250815T160000Z
X-MICROSOFT-CDO-ALLDAYEVENT:FALSE
SUMMARY:Friday AM Networking Meeting - My Father's House
DESCRIPTION:Hosted by My Father's House - A Community Shelter. These meetings are a great networking opportunity to meet Chamber members and prospective members. Guests and new faces are always welcome!\n\nThis event will be indoors. Please enter on the SOUTH side of the building\, closest to Powell.
X-ALT-DESC;FMTTYPE=text/html:<p><span style="font-size:24px\;">Hosted by <span style="color:#0000CD\;"><strong>My Father&#39\;s House - A Community Shelter</strong></span>. These meetings are a great networking opportunity to meet Chamber members and prospective members. Guests and new faces are always welcome!</span></p>\n\n<p><span style="color:#0000CD\;"><span style="font-size:24px\;"><span style="font-family: Helvetica\, Arial\, sans-serif\; font-weight: 700\;">This event will be indoors. Please enter on the SOUTH side of the building\, closest to Powell.</span></span></span><span style="color:#0000FF\;"><span style="font-size:24px\;">&nbsp\;</span></span></p>\n
LOCATION:5003 W Powell Blvd Gresham\, OR 97030
UID:e.1572.14192
SEQUENCE:3
DTSTAMP:20260425T182400Z
URL:https://greshamareachambergzcms.preview.gochambermaster.com/events/details/friday-am-networking-meeting-my-father-s-house-14192
END:VEVENT

END:VCALENDAR
