BEGIN:VCALENDAR
VERSION:2.0
PRODID:-//ChamberMaster//Event Calendar 2.0//EN
METHOD:PUBLISH
X-PUBLISHED-TTL:P3D
REFRESH-INTERVAL:P3D
CALSCALE:GREGORIAN
BEGIN:VEVENT
DTSTART:20250829T003000Z
DTEND:20250829T023000Z
X-MICROSOFT-CDO-ALLDAYEVENT:FALSE
SUMMARY:Time or Remembering
DESCRIPTION:As the sun gently sets\, the park transforms into a sacred space of memory and reflection. Along the winding pathways\, soft luminarias flicker like guiding stars\, lighting the way for visitors as they walk together in quiet remembrance. The trees become living memorials branches adorned with almost 300 photos of loved ones who have passed\, each image telling a silent story of love\, loss\, and legacy.\n\nA gentle melody fills the air with acapella song care\, where comforting songs offer space for healing and connection. Nearby\, a walking labyrinth invites participants into a meditative journey\, each step a moment of personal reflection or prayer.\n\nIn another peaceful station\, guests paint memorial stones\, adding color and meaning to small tokens that honor those they miss. Children and adults alike participate\, creating heartfelt tributes to place near trees or carry home as keepsakes.\n\nVeterans are honored with American flags placed beside photos and names\, each paired with the branch of service they represented. In a solemn and moving moment\, the VFW plays Taps\, its haunting notes echoing through the park and touching every heart.\n\nA mobile library offers a curated selection of books on grief\, healing\, and remembrance resources to support all ages through their journey of loss. Just steps away\, the calming tones of a sound bath fill the air\, offering deep relaxation and grounding.\n\nThroughout the evening\, the park is a tapestry of shared sorrow and quiet celebration a place where memories are honored\, grief is witnessed\, and community brings comfort.
X-ALT-DESC;FMTTYPE=text/html:As the sun gently sets\, the park transforms into a sacred space of memory and reflection. Along the winding pathways\, soft luminarias flicker like guiding stars\, lighting the way for visitors as they walk together in quiet remembrance. The trees become living memorials&mdash\;branches adorned with almost 300 photos of loved ones who have passed\, each image telling a silent story of love\, loss\, and legacy.<br />\nA gentle melody fills the air with acapella song care\, where comforting songs offer space for healing and connection. Nearby\, a walking labyrinth invites participants into a meditative journey\, each step a moment of personal reflection or prayer.<br />\nIn another peaceful station\, guests paint memorial stones\, adding color and meaning to small tokens that honor those they miss. Children and adults alike participate\, creating heartfelt tributes to place near trees or carry home as keepsakes.<br />\nVeterans are honored with American flags placed beside photos and names\, each paired with the branch of service they represented. In a solemn and moving moment\, the VFW plays Taps\, its haunting notes echoing through the park and touching every heart.<br />\nA mobile library offers a curated selection of books on grief\, healing\, and remembrance&mdash\;resources to support all ages through their journey of loss. Just steps away\, the calming tones of a sound bath fill the air\, offering deep relaxation and grounding.<br />\nThroughout the evening\, the park is a tapestry of shared sorrow and quiet celebration&mdash\;a place where memories are honored\, grief is witnessed\, and community brings comfort.
LOCATION:Meinig Park 17670 Meinig Ave. Sandy\, OR 97055
UID:e.1572.14900
SEQUENCE:3
DTSTAMP:20260425T210635Z
URL:https://greshamareachambergzcms.preview.gochambermaster.com/events/details/time-or-remembering-14900
END:VEVENT

END:VCALENDAR
